BEGIN:VCALENDAR
PRODID:-//eluceo/ical//2.0/EN
VERSION:2.0
CALSCALE:GREGORIAN
BEGIN:VEVENT
UID:event-602
DTSTAMP:20260422T141529Z
SUMMARY:SenescenCie stagevoorlichting
DESCRIPTION:
DTSTART:20260430T170000Z
DTEND:20260430T191500Z
LOCATION:KT Vleugel
END:VEVENT
BEGIN:VTIMEZONE
TZID:UTC
BEGIN:STANDARD
DTSTART:20260430T170000
TZNAME:UTC
TZOFFSETTO:+0000
TZOFFSETFROM:+0000
END:STANDARD
END:VTIMEZONE
END:VCALENDAR
