BEGIN:VCALENDAR
PRODID:-//eluceo/ical//2.0/EN
VERSION:2.0
CALSCALE:GREGORIAN
BEGIN:VEVENT
UID:event-604
DTSTAMP:20260425T135005Z
SUMMARY:SenescenCie Lunchlezing 
DESCRIPTION:Hoi hoi\, Woensdag 29 april om 12:15 uur is er een lunchlezing 
 in het LUMC\, in collegezaal 3.  Mooi meegenomen is dat de I&amp\;I'ers h
 ier al zitten dus niet eens hoeven te verplaatsen! Edwin Klinkenberg zal o
 ns wat komen vertellen over hoe hij na zijn I&amp\;I master bij Delft Imag
 ing is terechtgekomen. Hij houdt zich bezig met het diagnosticeren en beha
 ndelen van TBC in derdewereldlanden. Waar loop je tegenaan en waar moet je
  rekening mee houden? Delft Imaging diagnosticeert tuberculose in derdewer
 eldlanden met behulp van deep learning. TG’er Edwin Klinkenberg zal ons 
 hier in drie kwartier alles over vertellen. Hierna is er uiteraard ruimte 
 om al je vragen te stellen over alles waar je nog in geïnteresseerd bent!
  Pak je kans om erbij te zijn! Wij hopen veel van jullie te zien volgende 
 week woensdag. Groetjes\, SenescenCie 'PAC van mijn hart' ECSlay ❤️
 🛷
DTSTART:20260429T103000Z
DTEND:20260429T113000Z
END:VEVENT
BEGIN:VTIMEZONE
TZID:UTC
BEGIN:STANDARD
DTSTART:20260429T103000
TZNAME:UTC
TZOFFSETTO:+0000
TZOFFSETFROM:+0000
END:STANDARD
END:VTIMEZONE
END:VCALENDAR
